BEGIN:VCALENDAR
VERSION:2.0
PRODID:-//horsealert.local//NONSGML kigkonsult.se iCalcreator 2.10.5//
CALSCALE:GREGORIAN
X-WR-TIMEZONE:Europe/Dublin
BEGIN:VTIMEZONE
TZID:Etc/GMT-1
BEGIN:STANDARD
DTSTART:20010101T000000
TZOFFSETFROM:+0100
TZOFFSETTO:+0100
TZNAME:GMT +01:00
END:STANDARD
END:VTIMEZONE
BEGIN:VEVENT
UID:20260423T230637CEST-6881z8o5ZS@horsealert.local
DTSTAMP:20260423T210437Z
CATEGORIES:Horse Alerts
DESCRIPTION:toteexacta Pick The 1-2 Handicap
DTSTART:20150205T184000
LOCATION:England
SUMMARY:Horse Racing:toteexacta Pick The 1-2 Handicap
END:VEVENT
END:VCALENDAR
