BEGIN:VCALENDAR
VERSION:2.0
PRODID:-//horsealert.local//NONSGML kigkonsult.se iCalcreator 2.10.5//
CALSCALE:GREGORIAN
X-WR-TIMEZONE:Europe/Dublin
BEGIN:VTIMEZONE
TZID:Etc/GMT-1
BEGIN:STANDARD
DTSTART:20010101T000000
TZOFFSETFROM:+0100
TZOFFSETTO:+0100
TZNAME:GMT +01:00
END:STANDARD
END:VTIMEZONE
BEGIN:VEVENT
UID:20260423T230041CEST-1807CCJVn1@horsealert.local
DTSTAMP:20260423T210441Z
CATEGORIES:Horse Alerts
DESCRIPTION:32RedBet.com All Weather \'Hands And Heels\' Apprentice Series 
 Handicap
DTSTART:20150202T144000
LOCATION:England
SUMMARY:Horse Racing:32RedBet.com All Weather \'Hands And Heels\' Apprentic
 e Series Handicap
END:VEVENT
END:VCALENDAR
