BEGIN:VCALENDAR
VERSION:2.0
PRODID:-//horsealert.local//NONSGML kigkonsult.se iCalcreator 2.10.5//
CALSCALE:GREGORIAN
X-WR-TIMEZONE:Europe/Dublin
BEGIN:VTIMEZONE
TZID:Etc/GMT-1
BEGIN:STANDARD
DTSTART:20010101T000000
TZOFFSETFROM:+0100
TZOFFSETTO:+0100
TZNAME:GMT +01:00
END:STANDARD
END:VTIMEZONE
BEGIN:VEVENT
UID:20260423T230004CEST-7369nEUKZZ@horsealert.local
DTSTAMP:20260423T210404Z
CATEGORIES:Horse Alerts
DESCRIPTION:Northern Area Point-To-Point Association Scottish Foxhunter Cha
 se \(Hunters\' Chase\)
DTSTART:20150201T160000
LOCATION:Scotland
SUMMARY:Horse Racing:Northern Area Point-To-Point Association Scottish Foxh
 unter Chase \(Hunters\' Chase\)
END:VEVENT
END:VCALENDAR
