BEGIN:VCALENDAR
VERSION:2.0
PRODID:-//horsealert.local//NONSGML kigkonsult.se iCalcreator 2.10.5//
CALSCALE:GREGORIAN
X-WR-TIMEZONE:Europe/Dublin
BEGIN:VTIMEZONE
TZID:Etc/GMT-1
BEGIN:STANDARD
DTSTART:20010101T000000
TZOFFSETFROM:+0100
TZOFFSETTO:+0100
TZNAME:GMT +01:00
END:STANDARD
END:VTIMEZONE
BEGIN:VEVENT
UID:20260423T230001CEST-45938A9WiM@horsealert.local
DTSTAMP:20260423T210401Z
CATEGORIES:Horse Alerts
DESCRIPTION:totepool \'We Love Winners\' Handicap
DTSTART:20150201T155000
LOCATION:England
SUMMARY:Horse Racing:totepool \'We Love Winners\' Handicap
END:VEVENT
END:VCALENDAR
