BEGIN:VCALENDAR
VERSION:2.0
PRODID:-//horsealert.local//NONSGML kigkonsult.se iCalcreator 2.10.5//
CALSCALE:GREGORIAN
X-WR-TIMEZONE:Europe/Dublin
BEGIN:VTIMEZONE
TZID:Etc/GMT-1
BEGIN:STANDARD
DTSTART:20010101T000000
TZOFFSETFROM:+0100
TZOFFSETTO:+0100
TZNAME:GMT +01:00
END:STANDARD
END:VTIMEZONE
BEGIN:VEVENT
UID:20260424T003416CEST-6864srzG2X@horsealert.local
DTSTAMP:20260423T220416Z
CATEGORIES:Horse Alerts
DESCRIPTION:Betfred \'Goals Galore\' Handicap Chase
DTSTART:20150131T135000
LOCATION:England
SUMMARY:Horse Racing:Betfred \'Goals Galore\' Handicap Chase
END:VEVENT
END:VCALENDAR
