BEGIN:VCALENDAR
VERSION:2.0
PRODID:-//horsealert.local//NONSGML kigkonsult.se iCalcreator 2.10.5//
CALSCALE:GREGORIAN
X-WR-TIMEZONE:Europe/Dublin
BEGIN:VTIMEZONE
TZID:Etc/GMT-1
BEGIN:STANDARD
DTSTART:20010101T000000
TZOFFSETFROM:+0100
TZOFFSETTO:+0100
TZNAME:GMT +01:00
END:STANDARD
END:VTIMEZONE
BEGIN:VEVENT
UID:20260424T003452CEST-0272nkN30E@horsealert.local
DTSTAMP:20260423T220452Z
CATEGORIES:Horse Alerts
DESCRIPTION:European Breeders\' Fund \'National Hunt\' Novices\' Hurdle \(Q
 ualifier\)
DTSTART:20150130T144500
LOCATION:England
SUMMARY:Horse Racing:European Breeders\' Fund \'National Hunt\' Novices\' H
 urdle \(Qualifier\)
END:VEVENT
END:VCALENDAR
