BEGIN:VCALENDAR
VERSION:2.0
PRODID:-//horsealert.local//NONSGML kigkonsult.se iCalcreator 2.10.5//
CALSCALE:GREGORIAN
X-WR-TIMEZONE:Europe/Dublin
BEGIN:VTIMEZONE
TZID:Etc/GMT-1
BEGIN:STANDARD
DTSTART:20010101T000000
TZOFFSETFROM:+0100
TZOFFSETTO:+0100
TZNAME:GMT +01:00
END:STANDARD
END:VTIMEZONE
BEGIN:VEVENT
UID:20260424T003122CEST-464096sFxo@horsealert.local
DTSTAMP:20260423T220422Z
CATEGORIES:Horse Alerts
DESCRIPTION:William Hill Promoting gambleaware.co.uk Intermediate Open NH F
 lat Race
DTSTART:20150129T162000
LOCATION:England
SUMMARY:Horse Racing:William Hill Promoting gambleaware.co.uk Intermediate 
 Open NH Flat Race
END:VEVENT
END:VCALENDAR
