BEGIN:VCALENDAR
VERSION:2.0
PRODID:-//horsealert.local//NONSGML kigkonsult.se iCalcreator 2.10.5//
CALSCALE:GREGORIAN
X-WR-TIMEZONE:Europe/Dublin
BEGIN:VTIMEZONE
TZID:Etc/GMT-1
BEGIN:STANDARD
DTSTART:20010101T000000
TZOFFSETFROM:+0100
TZOFFSETTO:+0100
TZNAME:GMT +01:00
END:STANDARD
END:VTIMEZONE
BEGIN:VEVENT
UID:20260424T003307CEST-0425UfFc55@horsealert.local
DTSTAMP:20260423T220407Z
CATEGORIES:Horse Alerts
DESCRIPTION:Frazer Hines & Heather Moreno Handicap Chase \(For The Glenugie
 /Ingham Cup\)
DTSTART:20150125T153500
LOCATION:England
SUMMARY:Horse Racing:Frazer Hines & Heather Moreno Handicap Chase \(For The
  Glenugie/Ingham Cup\)
END:VEVENT
END:VCALENDAR
