BEGIN:VCALENDAR
VERSION:2.0
PRODID:-//horsealert.local//NONSGML kigkonsult.se iCalcreator 2.10.5//
CALSCALE:GREGORIAN
X-WR-TIMEZONE:Europe/Dublin
BEGIN:VTIMEZONE
TZID:Etc/GMT-1
BEGIN:STANDARD
DTSTART:20010101T000000
TZOFFSETFROM:+0100
TZOFFSETTO:+0100
TZNAME:GMT +01:00
END:STANDARD
END:VTIMEZONE
BEGIN:VEVENT
UID:20260424T003305CEST-29022bBbOA@horsealert.local
DTSTAMP:20260423T220405Z
CATEGORIES:Horse Alerts
DESCRIPTION:Willoughby De Broke Open Hunters\' Chase \(For The Willoughby D
 e Broke Trophy\)
DTSTART:20150122T155000
LOCATION:England
SUMMARY:Horse Racing:Willoughby De Broke Open Hunters\' Chase \(For The Wil
 loughby De Broke Trophy\)
END:VEVENT
END:VCALENDAR
