BEGIN:VCALENDAR
VERSION:2.0
PRODID:-//horsealert.local//NONSGML kigkonsult.se iCalcreator 2.10.5//
CALSCALE:GREGORIAN
X-WR-TIMEZONE:Europe/Dublin
BEGIN:VTIMEZONE
TZID:Etc/GMT-1
BEGIN:STANDARD
DTSTART:20010101T000000
TZOFFSETFROM:+0100
TZOFFSETTO:+0100
TZNAME:GMT +01:00
END:STANDARD
END:VTIMEZONE
BEGIN:VEVENT
UID:20260424T003306CEST-3325dLklnE@horsealert.local
DTSTAMP:20260423T220406Z
CATEGORIES:Horse Alerts
DESCRIPTION:Sponsor A Race At Fairyhouse Call 018256167 Handicap Hurdle \(8
 0-95\)
DTSTART:20150121T141500
LOCATION:Eire
SUMMARY:Horse Racing:Sponsor A Race At Fairyhouse Call 018256167 Handicap H
 urdle \(80-95\)
END:VEVENT
END:VCALENDAR
