BEGIN:VCALENDAR
VERSION:2.0
PRODID:-//horsealert.local//NONSGML kigkonsult.se iCalcreator 2.10.5//
CALSCALE:GREGORIAN
X-WR-TIMEZONE:Europe/Dublin
BEGIN:VTIMEZONE
TZID:Etc/GMT-1
BEGIN:STANDARD
DTSTART:20010101T000000
TZOFFSETFROM:+0100
TZOFFSETTO:+0100
TZNAME:GMT +01:00
END:STANDARD
END:VTIMEZONE
BEGIN:VEVENT
UID:20260424T003227CEST-40028MFdVN@horsealert.local
DTSTAMP:20260423T220427Z
CATEGORIES:Horse Alerts
DESCRIPTION:32Red Conditions Stakes \(All-Weather Championship Fast-Track Q
 ualifier\)
DTSTART:20150121T150000
LOCATION:England
SUMMARY:Horse Racing:32Red Conditions Stakes \(All-Weather Championship Fas
 t-Track Qualifier\)
END:VEVENT
END:VCALENDAR
