BEGIN:VCALENDAR
VERSION:2.0
PRODID:-//horsealert.local//NONSGML kigkonsult.se iCalcreator 2.10.5//
CALSCALE:GREGORIAN
X-WR-TIMEZONE:Europe/Dublin
BEGIN:VTIMEZONE
TZID:Etc/GMT-1
BEGIN:STANDARD
DTSTART:20010101T000000
TZOFFSETFROM:+0100
TZOFFSETTO:+0100
TZNAME:GMT +01:00
END:STANDARD
END:VTIMEZONE
BEGIN:VEVENT
UID:20260424T003226CEST-0344igwSgb@horsealert.local
DTSTAMP:20260423T220426Z
CATEGORIES:Horse Alerts
DESCRIPTION:Cheltenham Preview Evening 3rd March Maiden Hurdle \(Div 1\)
DTSTART:20150119T132000
LOCATION:England
SUMMARY:Horse Racing:Cheltenham Preview Evening 3rd March Maiden Hurdle \(D
 iv 1\)
END:VEVENT
END:VCALENDAR
