BEGIN:VCALENDAR
VERSION:2.0
PRODID:-//horsealert.local//NONSGML kigkonsult.se iCalcreator 2.10.5//
CALSCALE:GREGORIAN
X-WR-TIMEZONE:Europe/Dublin
BEGIN:VTIMEZONE
TZID:Etc/GMT-1
BEGIN:STANDARD
DTSTART:20010101T000000
TZOFFSETFROM:+0100
TZOFFSETTO:+0100
TZNAME:GMT +01:00
END:STANDARD
END:VTIMEZONE
BEGIN:VEVENT
UID:20260424T003309CEST-3361VZFg3K@horsealert.local
DTSTAMP:20260423T220409Z
CATEGORIES:Horse Alerts
DESCRIPTION:CE Facilities Novices\' Chase \(Registered As The Altcar Novice
 s\' Chase\) \(Grade 2\)
DTSTART:20150117T125500
LOCATION:England
SUMMARY:Horse Racing:CE Facilities Novices\' Chase \(Registered As The Altc
 ar Novices\' Chase\) \(Grade 2\)
END:VEVENT
END:VCALENDAR
