BEGIN:VCALENDAR
VERSION:2.0
PRODID:-//horsealert.local//NONSGML kigkonsult.se iCalcreator 2.10.5//
CALSCALE:GREGORIAN
X-WR-TIMEZONE:Europe/Dublin
BEGIN:VTIMEZONE
TZID:Etc/GMT-1
BEGIN:STANDARD
DTSTART:20010101T000000
TZOFFSETFROM:+0100
TZOFFSETTO:+0100
TZNAME:GMT +01:00
END:STANDARD
END:VTIMEZONE
BEGIN:VEVENT
UID:20260424T003355CEST-3970IWOlXv@horsealert.local
DTSTAMP:20260423T220455Z
CATEGORIES:Horse Alerts
DESCRIPTION:Sodexo Clarence House Chase \(25k Field Size Bonus Race\) \(Gra
 de 1\)
DTSTART:20150117T150000
LOCATION:England
SUMMARY:Horse Racing:Sodexo Clarence House Chase \(25k Field Size Bonus Rac
 e\) \(Grade 1\)
END:VEVENT
END:VCALENDAR
