BEGIN:VCALENDAR
VERSION:2.0
PRODID:-//horsealert.local//NONSGML kigkonsult.se iCalcreator 2.10.5//
CALSCALE:GREGORIAN
X-WR-TIMEZONE:Europe/Dublin
BEGIN:VTIMEZONE
TZID:Etc/GMT-1
BEGIN:STANDARD
DTSTART:20010101T000000
TZOFFSETFROM:+0100
TZOFFSETTO:+0100
TZNAME:GMT +01:00
END:STANDARD
END:VTIMEZONE
BEGIN:VEVENT
UID:20260424T003124CEST-2606IHulG5@horsealert.local
DTSTAMP:20260423T220424Z
CATEGORIES:Horse Alerts
DESCRIPTION:32RedSport.com Conditions Stakes \(All-Weather Championship Fas
 t-Track Qualifier\)
DTSTART:20150114T184000
LOCATION:England
SUMMARY:Horse Racing:32RedSport.com Conditions Stakes \(All-Weather Champio
 nship Fast-Track Qualifier\)
END:VEVENT
END:VCALENDAR
