BEGIN:VCALENDAR
VERSION:2.0
PRODID:-//horsealert.local//NONSGML kigkonsult.se iCalcreator 2.10.5//
CALSCALE:GREGORIAN
X-WR-TIMEZONE:Europe/Dublin
BEGIN:VTIMEZONE
TZID:Etc/GMT-1
BEGIN:STANDARD
DTSTART:20010101T000000
TZOFFSETFROM:+0100
TZOFFSETTO:+0100
TZNAME:GMT +01:00
END:STANDARD
END:VTIMEZONE
BEGIN:VEVENT
UID:20260424T003113CEST-48534xp2AS@horsealert.local
DTSTAMP:20260423T220413Z
CATEGORIES:Horse Alerts
DESCRIPTION:Newcastle Arms Coldstream Novices\' Hurdle
DTSTART:20150111T134000
LOCATION:Scotland
SUMMARY:Horse Racing:Newcastle Arms Coldstream Novices\' Hurdle
END:VEVENT
END:VCALENDAR
