BEGIN:VCALENDAR
VERSION:2.0
PRODID:-//horsealert.local//NONSGML kigkonsult.se iCalcreator 2.10.5//
CALSCALE:GREGORIAN
X-WR-TIMEZONE:Europe/Dublin
BEGIN:VTIMEZONE
TZID:Etc/GMT-1
BEGIN:STANDARD
DTSTART:20010101T000000
TZOFFSETFROM:+0100
TZOFFSETTO:+0100
TZNAME:GMT +01:00
END:STANDARD
END:VTIMEZONE
BEGIN:VEVENT
UID:20260424T003124CEST-4717L7dMI0@horsealert.local
DTSTAMP:20260423T220424Z
CATEGORIES:Horse Alerts
DESCRIPTION:Oliver Russell Lifetime Services To The Ward Union Hunt \(Pro/A
 m\) Flat Race
DTSTART:20150111T160000
LOCATION:Eire
SUMMARY:Horse Racing:Oliver Russell Lifetime Services To The Ward Union Hun
 t \(Pro/Am\) Flat Race
END:VEVENT
END:VCALENDAR
