BEGIN:VCALENDAR
VERSION:2.0
PRODID:-//horsealert.local//NONSGML kigkonsult.se iCalcreator 2.10.5//
CALSCALE:GREGORIAN
X-WR-TIMEZONE:Europe/Dublin
BEGIN:VTIMEZONE
TZID:Etc/GMT-1
BEGIN:STANDARD
DTSTART:20010101T000000
TZOFFSETFROM:+0100
TZOFFSETTO:+0100
TZNAME:GMT +01:00
END:STANDARD
END:VTIMEZONE
BEGIN:VEVENT
UID:20260424T003124CEST-7663cn6o5v@horsealert.local
DTSTAMP:20260423T220424Z
CATEGORIES:Horse Alerts
DESCRIPTION:Racing UK Anywhere Available Now Fillies\' \'Junior\' Standard 
 Open NH Flat Race
DTSTART:20150110T155500
LOCATION:England
SUMMARY:Horse Racing:Racing UK Anywhere Available Now Fillies\' \'Junior\' 
 Standard Open NH Flat Race
END:VEVENT
END:VCALENDAR
