BEGIN:VCALENDAR
VERSION:2.0
PRODID:-//horsealert.local//NONSGML kigkonsult.se iCalcreator 2.10.5//
CALSCALE:GREGORIAN
X-WR-TIMEZONE:Europe/Dublin
BEGIN:VTIMEZONE
TZID:Etc/GMT-1
BEGIN:STANDARD
DTSTART:20010101T000000
TZOFFSETFROM:+0100
TZOFFSETTO:+0100
TZNAME:GMT +01:00
END:STANDARD
END:VTIMEZONE
BEGIN:VEVENT
UID:20260424T003126CEST-5225RGvEUU@horsealert.local
DTSTAMP:20260423T220426Z
CATEGORIES:Horse Alerts
DESCRIPTION:totepool Medieval Day - Saturday 31st January Handicap Chase
DTSTART:20150110T152500
LOCATION:England
SUMMARY:Horse Racing:totepool Medieval Day - Saturday 31st January Handicap
  Chase
END:VEVENT
END:VCALENDAR
