BEGIN:VCALENDAR
VERSION:2.0
PRODID:-//horsealert.local//NONSGML kigkonsult.se iCalcreator 2.10.5//
CALSCALE:GREGORIAN
X-WR-TIMEZONE:Europe/Dublin
BEGIN:VTIMEZONE
TZID:Etc/GMT-1
BEGIN:STANDARD
DTSTART:20010101T000000
TZOFFSETFROM:+0100
TZOFFSETTO:+0100
TZNAME:GMT +01:00
END:STANDARD
END:VTIMEZONE
BEGIN:VEVENT
UID:20260424T003356CEST-3335vkuHpr@horsealert.local
DTSTAMP:20260423T220456Z
CATEGORIES:Horse Alerts
DESCRIPTION:Dundalk Stadium On Facebook \(Q.R.\) Handicap \(47-75\)
DTSTART:20150109T210500
LOCATION:Eire
SUMMARY:Horse Racing:Dundalk Stadium On Facebook \(Q.R.\) Handicap \(47-75\
 )
END:VEVENT
END:VCALENDAR
