BEGIN:VCALENDAR
VERSION:2.0
PRODID:-//horsealert.local//NONSGML kigkonsult.se iCalcreator 2.10.5//
CALSCALE:GREGORIAN
X-WR-TIMEZONE:Europe/Dublin
BEGIN:VTIMEZONE
TZID:Etc/GMT-1
BEGIN:STANDARD
DTSTART:20010101T000000
TZOFFSETFROM:+0100
TZOFFSETTO:+0100
TZNAME:GMT +01:00
END:STANDARD
END:VTIMEZONE
BEGIN:VEVENT
UID:20260424T003125CEST-0684u9EHZK@horsealert.local
DTSTAMP:20260423T220425Z
CATEGORIES:Horse Alerts
DESCRIPTION:Taunton Racecourse Owners Club First Win \'National Hunt\' Novi
 ces\' Hurdle
DTSTART:20150107T141000
LOCATION:England
SUMMARY:Horse Racing:Taunton Racecourse Owners Club First Win \'National Hu
 nt\' Novices\' Hurdle
END:VEVENT
END:VCALENDAR
