BEGIN:VCALENDAR
VERSION:2.0
PRODID:-//horsealert.local//NONSGML kigkonsult.se iCalcreator 2.10.5//
CALSCALE:GREGORIAN
X-WR-TIMEZONE:Europe/Dublin
BEGIN:VTIMEZONE
TZID:Etc/GMT-1
BEGIN:STANDARD
DTSTART:20010101T000000
TZOFFSETFROM:+0100
TZOFFSETTO:+0100
TZNAME:GMT +01:00
END:STANDARD
END:VTIMEZONE
BEGIN:VEVENT
UID:20260424T003239CEST-1700sGkW0X@horsealert.local
DTSTAMP:20260423T220439Z
CATEGORIES:Horse Alerts
DESCRIPTION:Annual Members Racing Excellence \'Hands And Heels\' Handicap C
 hase \(Conditionals/Amateurs\)
DTSTART:20150107T153000
LOCATION:England
SUMMARY:Horse Racing:Annual Members Racing Excellence \'Hands And Heels\' H
 andicap Chase \(Conditionals/Amateurs\)
END:VEVENT
END:VCALENDAR
