BEGIN:VCALENDAR
VERSION:2.0
PRODID:-//horsealert.local//NONSGML kigkonsult.se iCalcreator 2.10.5//
CALSCALE:GREGORIAN
X-WR-TIMEZONE:Europe/Dublin
BEGIN:VTIMEZONE
TZID:Etc/GMT-1
BEGIN:STANDARD
DTSTART:20010101T000000
TZOFFSETFROM:+0100
TZOFFSETTO:+0100
TZNAME:GMT +01:00
END:STANDARD
END:VTIMEZONE
BEGIN:VEVENT
UID:20260424T003309CEST-1561E7KRjT@horsealert.local
DTSTAMP:20260423T220409Z
CATEGORIES:Horse Alerts
DESCRIPTION:Stella Artois Black Novices\' Handicap Chase
DTSTART:20150106T141000
LOCATION:Wales
SUMMARY:Horse Racing:Stella Artois Black Novices\' Handicap Chase
END:VEVENT
END:VCALENDAR
