BEGIN:VCALENDAR
VERSION:2.0
PRODID:-//horsealert.local//NONSGML kigkonsult.se iCalcreator 2.10.5//
CALSCALE:GREGORIAN
X-WR-TIMEZONE:Europe/Dublin
BEGIN:VTIMEZONE
TZID:Etc/GMT-1
BEGIN:STANDARD
DTSTART:20010101T000000
TZOFFSETFROM:+0100
TZOFFSETTO:+0100
TZNAME:GMT +01:00
END:STANDARD
END:VTIMEZONE
BEGIN:VEVENT
UID:20260424T003308CEST-6076ad3sjZ@horsealert.local
DTSTAMP:20260423T220408Z
CATEGORIES:Horse Alerts
DESCRIPTION:Daily Enhanced \'Magic Multiples\' At Unibet Handicap
DTSTART:20150104T141000
LOCATION:England
SUMMARY:Horse Racing:Daily Enhanced \'Magic Multiples\' At Unibet Handicap
END:VEVENT
END:VCALENDAR
