BEGIN:VCALENDAR
VERSION:2.0
PRODID:-//horsealert.local//NONSGML kigkonsult.se iCalcreator 2.10.5//
CALSCALE:GREGORIAN
X-WR-TIMEZONE:Europe/Dublin
BEGIN:VTIMEZONE
TZID:Etc/GMT-1
BEGIN:STANDARD
DTSTART:20010101T000000
TZOFFSETFROM:+0100
TZOFFSETTO:+0100
TZNAME:GMT +01:00
END:STANDARD
END:VTIMEZONE
BEGIN:VEVENT
UID:20260424T003223CEST-2978xpmr2u@horsealert.local
DTSTAMP:20260423T220423Z
CATEGORIES:Horse Alerts
DESCRIPTION:Thurlestone Hotel Handicap Hurdle \(Connolly\'s Red Mills \'Pre
 cision Nutrition\' Series Qualifier\)
DTSTART:20150101T145500
LOCATION:England
SUMMARY:Horse Racing:Thurlestone Hotel Handicap Hurdle \(Connolly\'s Red Mi
 lls \'Precision Nutrition\' Series Qualifier\)
END:VEVENT
END:VCALENDAR
