BEGIN:VCALENDAR
VERSION:2.0
PRODID:-//horsealert.local//NONSGML kigkonsult.se iCalcreator 2.10.5//
CALSCALE:GREGORIAN
X-WR-TIMEZONE:Europe/Dublin
BEGIN:VTIMEZONE
TZID:Etc/GMT-1
BEGIN:STANDARD
DTSTART:20010101T000000
TZOFFSETFROM:+0100
TZOFFSETTO:+0100
TZNAME:GMT +01:00
END:STANDARD
END:VTIMEZONE
BEGIN:VEVENT
UID:20260424T003351CEST-97375ptnJh@horsealert.local
DTSTAMP:20260423T220451Z
CATEGORIES:Horse Alerts
DESCRIPTION:BetBright Novices\' Chase \(Registered As The Dipper Novices\' 
 Chase\) \(Grade 2\)
DTSTART:20150101T132000
LOCATION:England
SUMMARY:Horse Racing:BetBright Novices\' Chase \(Registered As The Dipper N
 ovices\' Chase\) \(Grade 2\)
END:VEVENT
END:VCALENDAR
