BEGIN:VCALENDAR
VERSION:2.0
PRODID:-//horsealert.local//NONSGML kigkonsult.se iCalcreator 2.10.5//
CALSCALE:GREGORIAN
X-WR-TIMEZONE:Europe/Dublin
BEGIN:VTIMEZONE
TZID:Etc/GMT-1
BEGIN:STANDARD
DTSTART:20010101T000000
TZOFFSETFROM:+0100
TZOFFSETTO:+0100
TZNAME:GMT +01:00
END:STANDARD
END:VTIMEZONE
BEGIN:VEVENT
UID:20260424T003109CEST-4806i3F5uU@horsealert.local
DTSTAMP:20260423T220409Z
CATEGORIES:Horse Alerts
DESCRIPTION:Daily Price Boosts At Unibet Conditions Stakes \(Fast Track Qua
 lifier\)
DTSTART:20150101T144000
LOCATION:England
SUMMARY:Horse Racing:Daily Price Boosts At Unibet Conditions Stakes \(Fast 
 Track Qualifier\)
END:VEVENT
END:VCALENDAR
