BEGIN:VCALENDAR
VERSION:2.0
PRODID:-//horsealert.local//NONSGML kigkonsult.se iCalcreator 2.10.5//
CALSCALE:GREGORIAN
X-WR-TIMEZONE:Europe/Dublin
BEGIN:VTIMEZONE
TZID:Etc/GMT-1
BEGIN:STANDARD
DTSTART:20010101T000000
TZOFFSETFROM:+0100
TZOFFSETTO:+0100
TZNAME:GMT +01:00
END:STANDARD
END:VTIMEZONE
BEGIN:VEVENT
UID:20260424T021810CEST-7309XAKiZZ@horsealert.local
DTSTAMP:20260424T000410Z
CATEGORIES:Horse Alerts
DESCRIPTION:totepool Betting On All UK Racing Mares\' Novices\' Hurdle \(Li
 sted\)
DTSTART:20141230T150000
LOCATION:England
SUMMARY:Horse Racing:totepool Betting On All UK Racing Mares\' Novices\' Hu
 rdle \(Listed\)
END:VEVENT
END:VCALENDAR
