BEGIN:VCALENDAR
VERSION:2.0
PRODID:-//horsealert.local//NONSGML kigkonsult.se iCalcreator 2.10.5//
CALSCALE:GREGORIAN
X-WR-TIMEZONE:Europe/Dublin
BEGIN:VTIMEZONE
TZID:Etc/GMT-1
BEGIN:STANDARD
DTSTART:20010101T000000
TZOFFSETFROM:+0100
TZOFFSETTO:+0100
TZNAME:GMT +01:00
END:STANDARD
END:VTIMEZONE
BEGIN:VEVENT
UID:20260424T021815CEST-68190aVxvJ@horsealert.local
DTSTAMP:20260424T000415Z
CATEGORIES:Horse Alerts
DESCRIPTION:totequadpot Novices\' Hurdle
DTSTART:20141230T140000
LOCATION:England
SUMMARY:Horse Racing:totequadpot Novices\' Hurdle
END:VEVENT
END:VCALENDAR
