BEGIN:VCALENDAR
VERSION:2.0
PRODID:-//horsealert.local//NONSGML kigkonsult.se iCalcreator 2.10.5//
CALSCALE:GREGORIAN
X-WR-TIMEZONE:Europe/Dublin
BEGIN:VTIMEZONE
TZID:Etc/GMT-1
BEGIN:STANDARD
DTSTART:20010101T000000
TZOFFSETFROM:+0100
TZOFFSETTO:+0100
TZNAME:GMT +01:00
END:STANDARD
END:VTIMEZONE
BEGIN:VEVENT
UID:20260424T021805CEST-8730HSP9A7@horsealert.local
DTSTAMP:20260424T000405Z
CATEGORIES:Horse Alerts
DESCRIPTION:Children\'s Immunology Trust Novices\' Limited Handicap Chase
DTSTART:20141229T150000
LOCATION:Scotland
SUMMARY:Horse Racing:Children\'s Immunology Trust Novices\' Limited Handica
 p Chase
END:VEVENT
END:VCALENDAR
