BEGIN:VCALENDAR
VERSION:2.0
PRODID:-//horsealert.local//NONSGML kigkonsult.se iCalcreator 2.10.5//
CALSCALE:GREGORIAN
X-WR-TIMEZONE:Europe/Dublin
BEGIN:VTIMEZONE
TZID:Etc/GMT-1
BEGIN:STANDARD
DTSTART:20010101T000000
TZOFFSETFROM:+0100
TZOFFSETTO:+0100
TZNAME:GMT +01:00
END:STANDARD
END:VTIMEZONE
BEGIN:VEVENT
UID:20260424T021805CEST-2744LAicHX@horsealert.local
DTSTAMP:20260424T000405Z
CATEGORIES:Horse Alerts
DESCRIPTION:raceclear.co.uk \'National Hunt\' Maiden Hurdle
DTSTART:20141229T121500
LOCATION:Scotland
SUMMARY:Horse Racing:raceclear.co.uk \'National Hunt\' Maiden Hurdle
END:VEVENT
END:VCALENDAR
