BEGIN:VCALENDAR
VERSION:2.0
PRODID:-//horsealert.local//NONSGML kigkonsult.se iCalcreator 2.10.5//
CALSCALE:GREGORIAN
X-WR-TIMEZONE:Europe/Dublin
BEGIN:VTIMEZONE
TZID:Etc/GMT-1
BEGIN:STANDARD
DTSTART:20010101T000000
TZOFFSETFROM:+0100
TZOFFSETTO:+0100
TZNAME:GMT +01:00
END:STANDARD
END:VTIMEZONE
BEGIN:VEVENT
UID:20260424T021955CEST-1891DOWlDO@horsealert.local
DTSTAMP:20260424T000455Z
CATEGORIES:Horse Alerts
DESCRIPTION:Ryanair Hurdle \(Grade 1\)
DTSTART:20141229T132500
LOCATION:Eire
SUMMARY:Horse Racing:Ryanair Hurdle \(Grade 1\)
END:VEVENT
END:VCALENDAR
