BEGIN:VCALENDAR
VERSION:2.0
PRODID:-//horsealert.local//NONSGML kigkonsult.se iCalcreator 2.10.5//
CALSCALE:GREGORIAN
X-WR-TIMEZONE:Europe/Dublin
BEGIN:VTIMEZONE
TZID:Etc/GMT-1
BEGIN:STANDARD
DTSTART:20010101T000000
TZOFFSETFROM:+0100
TZOFFSETTO:+0100
TZNAME:GMT +01:00
END:STANDARD
END:VTIMEZONE
BEGIN:VEVENT
UID:20260424T021812CEST-7495N3h0md@horsealert.local
DTSTAMP:20260424T000412Z
CATEGORIES:Horse Alerts
DESCRIPTION:Daily Enhanced \'Magic Multiples\' At Unibet Maiden Auction Sta
 kes
DTSTART:20141229T144000
LOCATION:England
SUMMARY:Horse Racing:Daily Enhanced \'Magic Multiples\' At Unibet Maiden Au
 ction Stakes
END:VEVENT
END:VCALENDAR
