BEGIN:VCALENDAR
VERSION:2.0
PRODID:-//horsealert.local//NONSGML kigkonsult.se iCalcreator 2.10.5//
CALSCALE:GREGORIAN
X-WR-TIMEZONE:Europe/Dublin
BEGIN:VTIMEZONE
TZID:Etc/GMT-1
BEGIN:STANDARD
DTSTART:20010101T000000
TZOFFSETFROM:+0100
TZOFFSETTO:+0100
TZNAME:GMT +01:00
END:STANDARD
END:VTIMEZONE
BEGIN:VEVENT
UID:20260424T021809CEST-8219ZT8BUO@horsealert.local
DTSTAMP:20260424T000409Z
CATEGORIES:Horse Alerts
DESCRIPTION:Watch On 3 Devices racinguk.com/anywhere Maiden Hurdle \(Div 2\
 )
DTSTART:20141228T143000
LOCATION:England
SUMMARY:Horse Racing:Watch On 3 Devices racinguk.com/anywhere Maiden Hurdle
  \(Div 2\)
END:VEVENT
END:VCALENDAR
