BEGIN:VCALENDAR
VERSION:2.0
PRODID:-//horsealert.local//NONSGML kigkonsult.se iCalcreator 2.10.5//
CALSCALE:GREGORIAN
X-WR-TIMEZONE:Europe/Dublin
BEGIN:VTIMEZONE
TZID:Etc/GMT-1
BEGIN:STANDARD
DTSTART:20010101T000000
TZOFFSETFROM:+0100
TZOFFSETTO:+0100
TZNAME:GMT +01:00
END:STANDARD
END:VTIMEZONE
BEGIN:VEVENT
UID:20260424T035319CEST-3557dJ1NIi@horsealert.local
DTSTAMP:20260424T010419Z
CATEGORIES:Horse Alerts
DESCRIPTION:williamhill.com Novices\' Chase \(Registered As The Wayward Lad
  Novices\' Chase\) \(Grade 2\)
DTSTART:20141227T131000
LOCATION:England
SUMMARY:Horse Racing:williamhill.com Novices\' Chase \(Registered As The Wa
 yward Lad Novices\' Chase\) \(Grade 2\)
END:VEVENT
END:VCALENDAR
