BEGIN:VCALENDAR
VERSION:2.0
PRODID:-//horsealert.local//NONSGML kigkonsult.se iCalcreator 2.10.5//
CALSCALE:GREGORIAN
X-WR-TIMEZONE:Europe/Dublin
BEGIN:VTIMEZONE
TZID:Etc/GMT-1
BEGIN:STANDARD
DTSTART:20010101T000000
TZOFFSETFROM:+0100
TZOFFSETTO:+0100
TZNAME:GMT +01:00
END:STANDARD
END:VTIMEZONE
BEGIN:VEVENT
UID:20260424T021942CEST-4634GJIkEB@horsealert.local
DTSTAMP:20260424T000442Z
CATEGORIES:Horse Alerts
DESCRIPTION:Paddy Power \'Number 1 For Live Streaming\' 3-Y-O Maiden Hurdle
DTSTART:20141227T122000
LOCATION:Eire
SUMMARY:Horse Racing:Paddy Power \'Number 1 For Live Streaming\' 3-Y-O Maid
 en Hurdle
END:VEVENT
END:VCALENDAR
