BEGIN:VCALENDAR
VERSION:2.0
PRODID:-//horsealert.local//NONSGML kigkonsult.se iCalcreator 2.10.5//
CALSCALE:GREGORIAN
X-WR-TIMEZONE:Europe/Dublin
BEGIN:VTIMEZONE
TZID:Etc/GMT-1
BEGIN:STANDARD
DTSTART:20010101T000000
TZOFFSETFROM:+0100
TZOFFSETTO:+0100
TZNAME:GMT +01:00
END:STANDARD
END:VTIMEZONE
BEGIN:VEVENT
UID:20260424T021817CEST-2996u6lvDv@horsealert.local
DTSTAMP:20260424T000417Z
CATEGORIES:Horse Alerts
DESCRIPTION:Bathwick Tyres Lord Stalbridge Memorial Cup \(Handicap Chase\)
DTSTART:20141226T152500
LOCATION:England
SUMMARY:Horse Racing:Bathwick Tyres Lord Stalbridge Memorial Cup \(Handicap
  Chase\)
END:VEVENT
END:VCALENDAR
