BEGIN:VCALENDAR
VERSION:2.0
PRODID:-//horsealert.local//NONSGML kigkonsult.se iCalcreator 2.10.5//
CALSCALE:GREGORIAN
X-WR-TIMEZONE:Europe/Dublin
BEGIN:VTIMEZONE
TZID:Etc/GMT-1
BEGIN:STANDARD
DTSTART:20010101T000000
TZOFFSETFROM:+0100
TZOFFSETTO:+0100
TZNAME:GMT +01:00
END:STANDARD
END:VTIMEZONE
BEGIN:VEVENT
UID:20260424T021848CEST-0817VWlzH0@horsealert.local
DTSTAMP:20260424T000448Z
CATEGORIES:Horse Alerts
DESCRIPTION:totepool Racing\'s Biggest Supporter \'National Hunt\' Novices\
 ' Handicap Hurdle
DTSTART:20141226T141000
LOCATION:England
SUMMARY:Horse Racing:totepool Racing\'s Biggest Supporter \'National Hunt\'
  Novices\' Handicap Hurdle
END:VEVENT
END:VCALENDAR
