BEGIN:VCALENDAR
VERSION:2.0
PRODID:-//horsealert.local//NONSGML kigkonsult.se iCalcreator 2.10.5//
CALSCALE:GREGORIAN
X-WR-TIMEZONE:Europe/Dublin
BEGIN:VTIMEZONE
TZID:Etc/GMT-1
BEGIN:STANDARD
DTSTART:20010101T000000
TZOFFSETFROM:+0100
TZOFFSETTO:+0100
TZNAME:GMT +01:00
END:STANDARD
END:VTIMEZONE
BEGIN:VEVENT
UID:20260424T035316CEST-63106PEHoR@horsealert.local
DTSTAMP:20260424T010416Z
CATEGORIES:Horse Alerts
DESCRIPTION:Wills Property Services Novices\' Hurdle \(Betfred Hurdle Serie
 s Qualifier\)
DTSTART:20141226T124000
LOCATION:England
SUMMARY:Horse Racing:Wills Property Services Novices\' Hurdle \(Betfred Hur
 dle Series Qualifier\)
END:VEVENT
END:VCALENDAR
