BEGIN:VCALENDAR
VERSION:2.0
PRODID:-//horsealert.local//NONSGML kigkonsult.se iCalcreator 2.10.5//
CALSCALE:GREGORIAN
X-WR-TIMEZONE:Europe/Dublin
BEGIN:VTIMEZONE
TZID:Etc/GMT-1
BEGIN:STANDARD
DTSTART:20010101T000000
TZOFFSETFROM:+0100
TZOFFSETTO:+0100
TZNAME:GMT +01:00
END:STANDARD
END:VTIMEZONE
BEGIN:VEVENT
UID:20260424T035438CEST-0074Llbwat@horsealert.local
DTSTAMP:20260424T010437Z
CATEGORIES:Horse Alerts
DESCRIPTION:Dark Horse Wine Bar Maiden Hurdle
DTSTART:20141226T143000
LOCATION:Northern Ireland
SUMMARY:Horse Racing:Dark Horse Wine Bar Maiden Hurdle
END:VEVENT
END:VCALENDAR
