BEGIN:VCALENDAR
VERSION:2.0
PRODID:-//horsealert.local//NONSGML kigkonsult.se iCalcreator 2.10.5//
CALSCALE:GREGORIAN
X-WR-TIMEZONE:Europe/Dublin
BEGIN:VTIMEZONE
TZID:Etc/GMT-1
BEGIN:STANDARD
DTSTART:20010101T000000
TZOFFSETFROM:+0100
TZOFFSETTO:+0100
TZNAME:GMT +01:00
END:STANDARD
END:VTIMEZONE
BEGIN:VEVENT
UID:20260424T021845CEST-3473aPVZuc@horsealert.local
DTSTAMP:20260424T000445Z
CATEGORIES:Horse Alerts
DESCRIPTION:Adam & Ann Armstrong Memorial Handicap Chase \(0-95\)
DTSTART:20141226T130000
LOCATION:Northern Ireland
SUMMARY:Horse Racing:Adam & Ann Armstrong Memorial Handicap Chase \(0-95\)
END:VEVENT
END:VCALENDAR
