BEGIN:VCALENDAR
VERSION:2.0
PRODID:-//horsealert.local//NONSGML kigkonsult.se iCalcreator 2.10.5//
CALSCALE:GREGORIAN
X-WR-TIMEZONE:Europe/Dublin
BEGIN:VTIMEZONE
TZID:Etc/GMT-1
BEGIN:STANDARD
DTSTART:20010101T000000
TZOFFSETFROM:+0100
TZOFFSETTO:+0100
TZNAME:GMT +01:00
END:STANDARD
END:VTIMEZONE
BEGIN:VEVENT
UID:20260424T035316CEST-1812TwhZ3u@horsealert.local
DTSTAMP:20260424T010416Z
CATEGORIES:Horse Alerts
DESCRIPTION:Visit And Dine In The Panoramic Handicap
DTSTART:20141222T162000
LOCATION:England
SUMMARY:Horse Racing:Visit And Dine In The Panoramic Handicap
END:VEVENT
END:VCALENDAR
