BEGIN:VCALENDAR
VERSION:2.0
PRODID:-//horsealert.local//NONSGML kigkonsult.se iCalcreator 2.10.5//
CALSCALE:GREGORIAN
X-WR-TIMEZONE:Europe/Dublin
BEGIN:VTIMEZONE
TZID:Etc/GMT-1
BEGIN:STANDARD
DTSTART:20010101T000000
TZOFFSETFROM:+0100
TZOFFSETTO:+0100
TZNAME:GMT +01:00
END:STANDARD
END:VTIMEZONE
BEGIN:VEVENT
UID:20260424T021953CEST-59004uA89R@horsealert.local
DTSTAMP:20260424T000453Z
CATEGORIES:Horse Alerts
DESCRIPTION:Tommy Whittle Handicap Chase Sponsored By Swift Financial Solut
 ions
DTSTART:20141220T140500
LOCATION:England
SUMMARY:Horse Racing:Tommy Whittle Handicap Chase Sponsored By Swift Financ
 ial Solutions
END:VEVENT
END:VCALENDAR
