BEGIN:VCALENDAR
VERSION:2.0
PRODID:-//horsealert.local//NONSGML kigkonsult.se iCalcreator 2.10.5//
CALSCALE:GREGORIAN
X-WR-TIMEZONE:Europe/Dublin
BEGIN:VTIMEZONE
TZID:Etc/GMT-1
BEGIN:STANDARD
DTSTART:20010101T000000
TZOFFSETFROM:+0100
TZOFFSETTO:+0100
TZNAME:GMT +01:00
END:STANDARD
END:VTIMEZONE
BEGIN:VEVENT
UID:20260424T035326CEST-2810RIMdjw@horsealert.local
DTSTAMP:20260424T010426Z
CATEGORIES:Horse Alerts
DESCRIPTION:Promote Your Business At Fairyhouse In 2015 Beginners Chase
DTSTART:20141220T123500
LOCATION:Eire
SUMMARY:Horse Racing:Promote Your Business At Fairyhouse In 2015 Beginners 
 Chase
END:VEVENT
END:VCALENDAR
