BEGIN:VCALENDAR
VERSION:2.0
PRODID:-//horsealert.local//NONSGML kigkonsult.se iCalcreator 2.10.5//
CALSCALE:GREGORIAN
X-WR-TIMEZONE:Europe/Dublin
BEGIN:VTIMEZONE
TZID:Etc/GMT-1
BEGIN:STANDARD
DTSTART:20010101T000000
TZOFFSETFROM:+0100
TZOFFSETTO:+0100
TZNAME:GMT +01:00
END:STANDARD
END:VTIMEZONE
BEGIN:VEVENT
UID:20260424T021929CEST-9187GTUaul@horsealert.local
DTSTAMP:20260424T000429Z
CATEGORIES:Horse Alerts
DESCRIPTION:Betfred Racing \'Follow Us On Twitter\' Novices\' Handicap Hurd
 le
DTSTART:20141219T121000
LOCATION:England
SUMMARY:Horse Racing:Betfred Racing \'Follow Us On Twitter\' Novices\' Hand
 icap Hurdle
END:VEVENT
END:VCALENDAR
