BEGIN:VCALENDAR
VERSION:2.0
PRODID:-//horsealert.local//NONSGML kigkonsult.se iCalcreator 2.10.5//
CALSCALE:GREGORIAN
X-WR-TIMEZONE:Europe/Dublin
BEGIN:VTIMEZONE
TZID:Etc/GMT-1
BEGIN:STANDARD
DTSTART:20010101T000000
TZOFFSETFROM:+0100
TZOFFSETTO:+0100
TZNAME:GMT +01:00
END:STANDARD
END:VTIMEZONE
BEGIN:VEVENT
UID:20260424T021935CEST-3700R7oupL@horsealert.local
DTSTAMP:20260424T000435Z
CATEGORIES:Horse Alerts
DESCRIPTION:Ascot Underwriting Championship Standard Open NH Flat Race \(Li
 sted\)
DTSTART:20141219T154000
LOCATION:England
SUMMARY:Horse Racing:Ascot Underwriting Championship Standard Open NH Flat 
 Race \(Listed\)
END:VEVENT
END:VCALENDAR
