BEGIN:VCALENDAR
VERSION:2.0
PRODID:-//horsealert.local//NONSGML kigkonsult.se iCalcreator 2.10.5//
CALSCALE:GREGORIAN
X-WR-TIMEZONE:Europe/Dublin
BEGIN:VTIMEZONE
TZID:Etc/GMT-1
BEGIN:STANDARD
DTSTART:20010101T000000
TZOFFSETFROM:+0100
TZOFFSETTO:+0100
TZNAME:GMT +01:00
END:STANDARD
END:VTIMEZONE
BEGIN:VEVENT
UID:20260424T035320CEST-8139EuGjDt@horsealert.local
DTSTAMP:20260424T010420Z
CATEGORIES:Horse Alerts
DESCRIPTION:Mitie Novices\' Chase \(10k Field Size Bonus Race\) \(Registere
 d As The Noel Novices\' Chase\) \(Grade 2\)
DTSTART:20141219T143000
LOCATION:England
SUMMARY:Horse Racing:Mitie Novices\' Chase \(10k Field Size Bonus Race\) \(
 Registered As The Noel Novices\' Chase\) \(Grade 2\)
END:VEVENT
END:VCALENDAR
