BEGIN:VCALENDAR
VERSION:2.0
PRODID:-//horsealert.local//NONSGML kigkonsult.se iCalcreator 2.10.5//
CALSCALE:GREGORIAN
X-WR-TIMEZONE:Europe/Dublin
BEGIN:VTIMEZONE
TZID:Etc/GMT-1
BEGIN:STANDARD
DTSTART:20010101T000000
TZOFFSETFROM:+0100
TZOFFSETTO:+0100
TZNAME:GMT +01:00
END:STANDARD
END:VTIMEZONE
BEGIN:VEVENT
UID:20260424T035313CEST-0752MLiKUb@horsealert.local
DTSTAMP:20260424T010413Z
CATEGORIES:Horse Alerts
DESCRIPTION:Sky Bet Supreme Trial Novices\' Hurdle \(10k Field Size Bonus\)
  \(Registered as The Kennel Gate Novices\' Hurdle\) \(Grade 2\)
DTSTART:20141219T135500
LOCATION:England
SUMMARY:Horse Racing:Sky Bet Supreme Trial Novices\' Hurdle \(10k Field Siz
 e Bonus\) \(Registered as The Kennel Gate Novices\' Hurdle\) \(Grade 2\)
END:VEVENT
END:VCALENDAR
