BEGIN:VCALENDAR
VERSION:2.0
PRODID:-//horsealert.local//NONSGML kigkonsult.se iCalcreator 2.10.5//
CALSCALE:GREGORIAN
X-WR-TIMEZONE:Europe/Dublin
BEGIN:VTIMEZONE
TZID:Etc/GMT-1
BEGIN:STANDARD
DTSTART:20010101T000000
TZOFFSETFROM:+0100
TZOFFSETTO:+0100
TZNAME:GMT +01:00
END:STANDARD
END:VTIMEZONE
BEGIN:VEVENT
UID:20260424T021852CEST-83047hHWDB@horsealert.local
DTSTAMP:20260424T000452Z
CATEGORIES:Horse Alerts
DESCRIPTION:De L\'amiraute Maiden Stakes \(colts & Geldings\)
DTSTART:20141217T120000
LOCATION:France
SUMMARY:Horse Racing:De L\'amiraute Maiden Stakes \(colts & Geldings\)
END:VEVENT
END:VCALENDAR
