BEGIN:VCALENDAR
VERSION:2.0
PRODID:-//horsealert.local//NONSGML kigkonsult.se iCalcreator 2.10.5//
CALSCALE:GREGORIAN
X-WR-TIMEZONE:Europe/Dublin
BEGIN:VTIMEZONE
TZID:Etc/GMT-1
BEGIN:STANDARD
DTSTART:20010101T000000
TZOFFSETFROM:+0100
TZOFFSETTO:+0100
TZNAME:GMT +01:00
END:STANDARD
END:VTIMEZONE
BEGIN:VEVENT
UID:20260424T021852CEST-5234vns8Zx@horsealert.local
DTSTAMP:20260424T000452Z
CATEGORIES:Horse Alerts
DESCRIPTION:Jean Horsburgh Memorial Handicap Chase
DTSTART:20141215T134500
LOCATION:England
SUMMARY:Horse Racing:Jean Horsburgh Memorial Handicap Chase
END:VEVENT
END:VCALENDAR
